BEGIN:VCALENDAR
VERSION:2.0
PRODID:-//Copake Lake Boat &amp; Ski - ECPv6.15.14//NONSGML v1.0//EN
CALSCALE:GREGORIAN
METHOD:PUBLISH
X-ORIGINAL-URL:https://www.copakelakeboatandski.com
X-WR-CALDESC:Events for Copake Lake Boat &amp; Ski
REFRESH-INTERVAL;VALUE=DURATION:PT1H
X-Robots-Tag:noindex
X-PUBLISHED-TTL:PT1H
BEGIN:VTIMEZONE
TZID:America/New_York
BEGIN:DAYLIGHT
TZOFFSETFROM:-0500
TZOFFSETTO:-0400
TZNAME:EDT
DTSTART:20250309T070000
END:DAYLIGHT
BEGIN:STANDARD
TZOFFSETFROM:-0400
TZOFFSETTO:-0500
TZNAME:EST
DTSTART:20251102T060000
END:STANDARD
BEGIN:DAYLIGHT
TZOFFSETFROM:-0500
TZOFFSETTO:-0400
TZNAME:EDT
DTSTART:20260308T070000
END:DAYLIGHT
BEGIN:STANDARD
TZOFFSETFROM:-0400
TZOFFSETTO:-0500
TZNAME:EST
DTSTART:20261101T060000
END:STANDARD
BEGIN:DAYLIGHT
TZOFFSETFROM:-0500
TZOFFSETTO:-0400
TZNAME:EDT
DTSTART:20270314T070000
END:DAYLIGHT
BEGIN:STANDARD
TZOFFSETFROM:-0400
TZOFFSETTO:-0500
TZNAME:EST
DTSTART:20271107T060000
END:STANDARD
END:VTIMEZONE
BEGIN:VEVENT
DTSTART;TZID=America/New_York:20260523T180000
DTEND;TZID=America/New_York:20260523T210000
DTSTAMP:20260420T081123
CREATED:20260218T185146Z
LAST-MODIFIED:20260303T222221Z
UID:10000107-1779559200-1779570000@www.copakelakeboatandski.com
SUMMARY:Live Music - Velvet Frog Band
DESCRIPTION:
URL:https://www.copakelakeboatandski.com/event/live-music-velvet-frog-band/2026-05-23/
LOCATION:Copake Lake Boat & Ski\, 281 Lakeview Road\, Craryville\, NY\, 12521\, United States
CATEGORIES:Live Music
ATTACH;FMTTYPE=image/jpeg:https://www.copakelakeboatandski.com/wp-content/uploads/2026/02/frog.jpg
END:VEVENT
BEGIN:VEVENT
DTSTART;TZID=America/New_York:20260626T180000
DTEND;TZID=America/New_York:20260626T210000
DTSTAMP:20260420T081123
CREATED:20260218T185146Z
LAST-MODIFIED:20260303T222221Z
UID:10000095-1782496800-1782507600@www.copakelakeboatandski.com
SUMMARY:Live Music - Velvet Frog Band
DESCRIPTION:
URL:https://www.copakelakeboatandski.com/event/live-music-velvet-frog-band/2026-06-26/
LOCATION:Copake Lake Boat & Ski\, 281 Lakeview Road\, Craryville\, NY\, 12521\, United States
CATEGORIES:Live Music
ATTACH;FMTTYPE=image/jpeg:https://www.copakelakeboatandski.com/wp-content/uploads/2026/02/frog.jpg
END:VEVENT
BEGIN:VEVENT
DTSTART;TZID=America/New_York:20260717T180000
DTEND;TZID=America/New_York:20260717T210000
DTSTAMP:20260420T081123
CREATED:20260218T185146Z
LAST-MODIFIED:20260303T222221Z
UID:10000101-1784311200-1784322000@www.copakelakeboatandski.com
SUMMARY:Live Music - Velvet Frog Band
DESCRIPTION:
URL:https://www.copakelakeboatandski.com/event/live-music-velvet-frog-band/2026-07-17/
LOCATION:Copake Lake Boat & Ski\, 281 Lakeview Road\, Craryville\, NY\, 12521\, United States
CATEGORIES:Live Music
ATTACH;FMTTYPE=image/jpeg:https://www.copakelakeboatandski.com/wp-content/uploads/2026/02/frog.jpg
END:VEVENT
BEGIN:VEVENT
DTSTART;TZID=America/New_York:20260814T180000
DTEND;TZID=America/New_York:20260814T210000
DTSTAMP:20260420T081123
CREATED:20260218T185146Z
LAST-MODIFIED:20260303T222221Z
UID:10000096-1786730400-1786741200@www.copakelakeboatandski.com
SUMMARY:Live Music - Velvet Frog Band
DESCRIPTION:
URL:https://www.copakelakeboatandski.com/event/live-music-velvet-frog-band/2026-08-14/
LOCATION:Copake Lake Boat & Ski\, 281 Lakeview Road\, Craryville\, NY\, 12521\, United States
CATEGORIES:Live Music
ATTACH;FMTTYPE=image/jpeg:https://www.copakelakeboatandski.com/wp-content/uploads/2026/02/frog.jpg
END:VEVENT
BEGIN:VEVENT
DTSTART;TZID=America/New_York:20260912T080000
DTEND;TZID=America/New_York:20260912T170000
DTSTAMP:20260420T081123
CREATED:20260218T185146Z
LAST-MODIFIED:20260303T222221Z
UID:10000097-1789200000-1789232400@www.copakelakeboatandski.com
SUMMARY:Live Music - Velvet Frog Band
DESCRIPTION:
URL:https://www.copakelakeboatandski.com/event/live-music-velvet-frog-band/2026-09-12/
LOCATION:Copake Lake Boat & Ski\, 281 Lakeview Road\, Craryville\, NY\, 12521\, United States
CATEGORIES:Live Music
ATTACH;FMTTYPE=image/jpeg:https://www.copakelakeboatandski.com/wp-content/uploads/2026/02/frog.jpg
END:VEVENT
END:VCALENDAR