BEGIN:VCALENDAR
VERSION:2.0
PRODID:-//Copake Lake Boat &amp; Ski - ECPv6.15.14//NONSGML v1.0//EN
CALSCALE:GREGORIAN
METHOD:PUBLISH
X-ORIGINAL-URL:https://www.copakelakeboatandski.com
X-WR-CALDESC:Events for Copake Lake Boat &amp; Ski
REFRESH-INTERVAL;VALUE=DURATION:PT1H
X-Robots-Tag:noindex
X-PUBLISHED-TTL:PT1H
BEGIN:VTIMEZONE
TZID:America/New_York
BEGIN:DAYLIGHT
TZOFFSETFROM:-0500
TZOFFSETTO:-0400
TZNAME:EDT
DTSTART:20250309T070000
END:DAYLIGHT
BEGIN:STANDARD
TZOFFSETFROM:-0400
TZOFFSETTO:-0500
TZNAME:EST
DTSTART:20251102T060000
END:STANDARD
BEGIN:DAYLIGHT
TZOFFSETFROM:-0500
TZOFFSETTO:-0400
TZNAME:EDT
DTSTART:20260308T070000
END:DAYLIGHT
BEGIN:STANDARD
TZOFFSETFROM:-0400
TZOFFSETTO:-0500
TZNAME:EST
DTSTART:20261101T060000
END:STANDARD
BEGIN:DAYLIGHT
TZOFFSETFROM:-0500
TZOFFSETTO:-0400
TZNAME:EDT
DTSTART:20270314T070000
END:DAYLIGHT
BEGIN:STANDARD
TZOFFSETFROM:-0400
TZOFFSETTO:-0500
TZNAME:EST
DTSTART:20271107T060000
END:STANDARD
END:VTIMEZONE
BEGIN:VEVENT
DTSTART;TZID=America/New_York:20260522T180000
DTEND;TZID=America/New_York:20260522T210000
DTSTAMP:20260420T100806
CREATED:20260128T012104Z
LAST-MODIFIED:20260405T150533Z
UID:10000009-1779472800-1779483600@www.copakelakeboatandski.com
SUMMARY:Food Truck Fridays - Aloha Tacos
DESCRIPTION:
URL:https://www.copakelakeboatandski.com/event/food-truck-fridays-aloha-tacos/2026-05-22/
LOCATION:Copake Lake Boat & Ski\, 281 Lakeview Road\, Craryville\, NY\, 12521\, United States
CATEGORIES:Food Truck Friday
ATTACH;FMTTYPE=image/jpeg:https://www.copakelakeboatandski.com/wp-content/uploads/2026/01/aloha.jpg
END:VEVENT
BEGIN:VEVENT
DTSTART;TZID=America/New_York:20260529T180000
DTEND;TZID=America/New_York:20260529T210000
DTSTAMP:20260420T100806
CREATED:20260128T204137Z
LAST-MODIFIED:20260128T210056Z
UID:10000048-1780077600-1780088400@www.copakelakeboatandski.com
SUMMARY:Food Truck Fridays - Cousins Maine Lobster
DESCRIPTION:
URL:https://www.copakelakeboatandski.com/event/food-truck-fridays-cousins-maine-lobster/2026-05-29/
LOCATION:Copake Lake Boat & Ski\, 281 Lakeview Road\, Craryville\, NY\, 12521\, United States
CATEGORIES:Food Truck Friday
ATTACH;FMTTYPE=image/jpeg:https://www.copakelakeboatandski.com/wp-content/uploads/2026/01/lobster-2.jpg
END:VEVENT
BEGIN:VEVENT
DTSTART;TZID=America/New_York:20260605T180000
DTEND;TZID=America/New_York:20260605T210000
DTSTAMP:20260420T100806
CREATED:20260218T180056Z
LAST-MODIFIED:20260218T180056Z
UID:10000080-1780682400-1780693200@www.copakelakeboatandski.com
SUMMARY:Food Truck Fridays - Bernie's Blue Line BBQ
DESCRIPTION:
URL:https://www.copakelakeboatandski.com/event/food-truck-fridays-bernies-blue-line-bbq/2026-06-05/
LOCATION:Copake Lake Boat & Ski\, 281 Lakeview Road\, Craryville\, NY\, 12521\, United States
CATEGORIES:Food Truck Friday
ATTACH;FMTTYPE=image/jpeg:https://www.copakelakeboatandski.com/wp-content/uploads/2026/02/bernies.jpg
END:VEVENT
BEGIN:VEVENT
DTSTART;TZID=America/New_York:20260619T180000
DTEND;TZID=America/New_York:20260619T210000
DTSTAMP:20260420T100806
CREATED:20260128T204137Z
LAST-MODIFIED:20260128T210056Z
UID:10000049-1781892000-1781902800@www.copakelakeboatandski.com
SUMMARY:Food Truck Fridays - Cousins Maine Lobster
DESCRIPTION:
URL:https://www.copakelakeboatandski.com/event/food-truck-fridays-cousins-maine-lobster/2026-06-19/
LOCATION:Copake Lake Boat & Ski\, 281 Lakeview Road\, Craryville\, NY\, 12521\, United States
CATEGORIES:Food Truck Friday
ATTACH;FMTTYPE=image/jpeg:https://www.copakelakeboatandski.com/wp-content/uploads/2026/01/lobster-2.jpg
END:VEVENT
BEGIN:VEVENT
DTSTART;TZID=America/New_York:20260703T180000
DTEND;TZID=America/New_York:20260703T210000
DTSTAMP:20260420T100806
CREATED:20260128T012104Z
LAST-MODIFIED:20260405T150533Z
UID:10000013-1783101600-1783112400@www.copakelakeboatandski.com
SUMMARY:Food Truck Fridays - Aloha Tacos
DESCRIPTION:
URL:https://www.copakelakeboatandski.com/event/food-truck-fridays-aloha-tacos/2026-07-03/
LOCATION:Copake Lake Boat & Ski\, 281 Lakeview Road\, Craryville\, NY\, 12521\, United States
CATEGORIES:Food Truck Friday
ATTACH;FMTTYPE=image/jpeg:https://www.copakelakeboatandski.com/wp-content/uploads/2026/01/aloha.jpg
END:VEVENT
BEGIN:VEVENT
DTSTART;TZID=America/New_York:20260710T180000
DTEND;TZID=America/New_York:20260710T210000
DTSTAMP:20260420T100806
CREATED:20260218T180056Z
LAST-MODIFIED:20260218T180056Z
UID:10000081-1783706400-1783717200@www.copakelakeboatandski.com
SUMMARY:Food Truck Fridays - Bernie's Blue Line BBQ
DESCRIPTION:
URL:https://www.copakelakeboatandski.com/event/food-truck-fridays-bernies-blue-line-bbq/2026-07-10/
LOCATION:Copake Lake Boat & Ski\, 281 Lakeview Road\, Craryville\, NY\, 12521\, United States
CATEGORIES:Food Truck Friday
ATTACH;FMTTYPE=image/jpeg:https://www.copakelakeboatandski.com/wp-content/uploads/2026/02/bernies.jpg
END:VEVENT
BEGIN:VEVENT
DTSTART;TZID=America/New_York:20260717T180000
DTEND;TZID=America/New_York:20260717T210000
DTSTAMP:20260420T100806
CREATED:20260128T012104Z
LAST-MODIFIED:20260405T150533Z
UID:10000014-1784311200-1784322000@www.copakelakeboatandski.com
SUMMARY:Food Truck Fridays - Aloha Tacos
DESCRIPTION:
URL:https://www.copakelakeboatandski.com/event/food-truck-fridays-aloha-tacos/2026-07-17/
LOCATION:Copake Lake Boat & Ski\, 281 Lakeview Road\, Craryville\, NY\, 12521\, United States
CATEGORIES:Food Truck Friday
ATTACH;FMTTYPE=image/jpeg:https://www.copakelakeboatandski.com/wp-content/uploads/2026/01/aloha.jpg
END:VEVENT
BEGIN:VEVENT
DTSTART;TZID=America/New_York:20260724T180000
DTEND;TZID=America/New_York:20260724T210000
DTSTAMP:20260420T100806
CREATED:20260128T204137Z
LAST-MODIFIED:20260128T210056Z
UID:10000050-1784916000-1784926800@www.copakelakeboatandski.com
SUMMARY:Food Truck Fridays - Cousins Maine Lobster
DESCRIPTION:
URL:https://www.copakelakeboatandski.com/event/food-truck-fridays-cousins-maine-lobster/2026-07-24/
LOCATION:Copake Lake Boat & Ski\, 281 Lakeview Road\, Craryville\, NY\, 12521\, United States
CATEGORIES:Food Truck Friday
ATTACH;FMTTYPE=image/jpeg:https://www.copakelakeboatandski.com/wp-content/uploads/2026/01/lobster-2.jpg
END:VEVENT
BEGIN:VEVENT
DTSTART;TZID=America/New_York:20260731T180000
DTEND;TZID=America/New_York:20260731T210000
DTSTAMP:20260420T100806
CREATED:20260128T012104Z
LAST-MODIFIED:20260405T150533Z
UID:10000015-1785520800-1785531600@www.copakelakeboatandski.com
SUMMARY:Food Truck Fridays - Aloha Tacos
DESCRIPTION:
URL:https://www.copakelakeboatandski.com/event/food-truck-fridays-aloha-tacos/2026-07-31/
LOCATION:Copake Lake Boat & Ski\, 281 Lakeview Road\, Craryville\, NY\, 12521\, United States
CATEGORIES:Food Truck Friday
ATTACH;FMTTYPE=image/jpeg:https://www.copakelakeboatandski.com/wp-content/uploads/2026/01/aloha.jpg
END:VEVENT
BEGIN:VEVENT
DTSTART;TZID=America/New_York:20260807T180000
DTEND;TZID=America/New_York:20260807T210000
DTSTAMP:20260420T100806
CREATED:20260218T185858Z
LAST-MODIFIED:20260218T185858Z
UID:10000098-1786125600-1786136400@www.copakelakeboatandski.com
SUMMARY:Food Truck Fridays - Mei's Dumplings
DESCRIPTION:Traditional Chinese Dumplings handmade by Mei in Copake\, NY.
URL:https://www.copakelakeboatandski.com/event/food-truck-fridays-meis-dumplings/
LOCATION:Copake Lake Boat & Ski\, 281 Lakeview Road\, Craryville\, NY\, 12521\, United States
CATEGORIES:Food Truck Friday
ATTACH;FMTTYPE=image/png:https://www.copakelakeboatandski.com/wp-content/uploads/2026/02/Screenshot-2026-02-18-135504.png
END:VEVENT
BEGIN:VEVENT
DTSTART;TZID=America/New_York:20260814T180000
DTEND;TZID=America/New_York:20260814T210000
DTSTAMP:20260420T100806
CREATED:20260128T012104Z
LAST-MODIFIED:20260405T150533Z
UID:10000016-1786730400-1786741200@www.copakelakeboatandski.com
SUMMARY:Food Truck Fridays - Aloha Tacos
DESCRIPTION:
URL:https://www.copakelakeboatandski.com/event/food-truck-fridays-aloha-tacos/2026-08-14/
LOCATION:Copake Lake Boat & Ski\, 281 Lakeview Road\, Craryville\, NY\, 12521\, United States
CATEGORIES:Food Truck Friday
ATTACH;FMTTYPE=image/jpeg:https://www.copakelakeboatandski.com/wp-content/uploads/2026/01/aloha.jpg
END:VEVENT
BEGIN:VEVENT
DTSTART;TZID=America/New_York:20260821T180000
DTEND;TZID=America/New_York:20260821T210000
DTSTAMP:20260420T100806
CREATED:20260128T204137Z
LAST-MODIFIED:20260128T210056Z
UID:10000051-1787335200-1787346000@www.copakelakeboatandski.com
SUMMARY:Food Truck Fridays - Cousins Maine Lobster
DESCRIPTION:
URL:https://www.copakelakeboatandski.com/event/food-truck-fridays-cousins-maine-lobster/2026-08-21/
LOCATION:Copake Lake Boat & Ski\, 281 Lakeview Road\, Craryville\, NY\, 12521\, United States
CATEGORIES:Food Truck Friday
ATTACH;FMTTYPE=image/jpeg:https://www.copakelakeboatandski.com/wp-content/uploads/2026/01/lobster-2.jpg
END:VEVENT
BEGIN:VEVENT
DTSTART;TZID=America/New_York:20260828T180000
DTEND;TZID=America/New_York:20260828T210000
DTSTAMP:20260420T100806
CREATED:20260128T012104Z
LAST-MODIFIED:20260405T150533Z
UID:10000017-1787940000-1787950800@www.copakelakeboatandski.com
SUMMARY:Food Truck Fridays - Aloha Tacos
DESCRIPTION:
URL:https://www.copakelakeboatandski.com/event/food-truck-fridays-aloha-tacos/2026-08-28/
LOCATION:Copake Lake Boat & Ski\, 281 Lakeview Road\, Craryville\, NY\, 12521\, United States
CATEGORIES:Food Truck Friday
ATTACH;FMTTYPE=image/jpeg:https://www.copakelakeboatandski.com/wp-content/uploads/2026/01/aloha.jpg
END:VEVENT
BEGIN:VEVENT
DTSTART;TZID=America/New_York:20260904T180000
DTEND;TZID=America/New_York:20260904T210000
DTSTAMP:20260420T100806
CREATED:20260218T180056Z
LAST-MODIFIED:20260218T180056Z
UID:10000082-1788544800-1788555600@www.copakelakeboatandski.com
SUMMARY:Food Truck Fridays - Bernie's Blue Line BBQ
DESCRIPTION:
URL:https://www.copakelakeboatandski.com/event/food-truck-fridays-bernies-blue-line-bbq/2026-09-04/
LOCATION:Copake Lake Boat & Ski\, 281 Lakeview Road\, Craryville\, NY\, 12521\, United States
CATEGORIES:Food Truck Friday
ATTACH;FMTTYPE=image/jpeg:https://www.copakelakeboatandski.com/wp-content/uploads/2026/02/bernies.jpg
END:VEVENT
BEGIN:VEVENT
DTSTART;TZID=America/New_York:20260911T180000
DTEND;TZID=America/New_York:20260911T210000
DTSTAMP:20260420T100806
CREATED:20260128T012104Z
LAST-MODIFIED:20260405T150533Z
UID:10000018-1789149600-1789160400@www.copakelakeboatandski.com
SUMMARY:Food Truck Fridays - Aloha Tacos
DESCRIPTION:
URL:https://www.copakelakeboatandski.com/event/food-truck-fridays-aloha-tacos/2026-09-11/
LOCATION:Copake Lake Boat & Ski\, 281 Lakeview Road\, Craryville\, NY\, 12521\, United States
CATEGORIES:Food Truck Friday
ATTACH;FMTTYPE=image/jpeg:https://www.copakelakeboatandski.com/wp-content/uploads/2026/01/aloha.jpg
END:VEVENT
BEGIN:VEVENT
DTSTART;TZID=America/New_York:20260918T180000
DTEND;TZID=America/New_York:20260918T210000
DTSTAMP:20260420T100806
CREATED:20260128T204137Z
LAST-MODIFIED:20260128T210056Z
UID:10000052-1789754400-1789765200@www.copakelakeboatandski.com
SUMMARY:Food Truck Fridays - Cousins Maine Lobster
DESCRIPTION:
URL:https://www.copakelakeboatandski.com/event/food-truck-fridays-cousins-maine-lobster/2026-09-18/
LOCATION:Copake Lake Boat & Ski\, 281 Lakeview Road\, Craryville\, NY\, 12521\, United States
CATEGORIES:Food Truck Friday
ATTACH;FMTTYPE=image/jpeg:https://www.copakelakeboatandski.com/wp-content/uploads/2026/01/lobster-2.jpg
END:VEVENT
END:VCALENDAR